BEGIN:VCALENDAR
VERSION:2.0
PRODID:-//Stiftung Zukunftsfähigkeit - ECPv6.15.17.1//NONSGML v1.0//EN
CALSCALE:GREGORIAN
METHOD:PUBLISH
X-WR-CALNAME:Stiftung Zukunftsfähigkeit
X-ORIGINAL-URL:https://stiftungzukunft.org
X-WR-CALDESC:Veranstaltungen für Stiftung Zukunftsfähigkeit
REFRESH-INTERVAL;VALUE=DURATION:PT1H
X-Robots-Tag:noindex
X-PUBLISHED-TTL:PT1H
BEGIN:VTIMEZONE
TZID:Europe/Berlin
BEGIN:DAYLIGHT
TZOFFSETFROM:+0100
TZOFFSETTO:+0200
TZNAME:CEST
DTSTART:20150329T010000
END:DAYLIGHT
BEGIN:STANDARD
TZOFFSETFROM:+0200
TZOFFSETTO:+0100
TZNAME:CET
DTSTART:20151025T010000
END:STANDARD
BEGIN:DAYLIGHT
TZOFFSETFROM:+0100
TZOFFSETTO:+0200
TZNAME:CEST
DTSTART:20160327T010000
END:DAYLIGHT
BEGIN:STANDARD
TZOFFSETFROM:+0200
TZOFFSETTO:+0100
TZNAME:CET
DTSTART:20161030T010000
END:STANDARD
BEGIN:DAYLIGHT
TZOFFSETFROM:+0100
TZOFFSETTO:+0200
TZNAME:CEST
DTSTART:20170326T010000
END:DAYLIGHT
BEGIN:STANDARD
TZOFFSETFROM:+0200
TZOFFSETTO:+0100
TZNAME:CET
DTSTART:20171029T010000
END:STANDARD
BEGIN:DAYLIGHT
TZOFFSETFROM:+0100
TZOFFSETTO:+0200
TZNAME:CEST
DTSTART:20180325T010000
END:DAYLIGHT
BEGIN:STANDARD
TZOFFSETFROM:+0200
TZOFFSETTO:+0100
TZNAME:CET
DTSTART:20181028T010000
END:STANDARD
BEGIN:DAYLIGHT
TZOFFSETFROM:+0100
TZOFFSETTO:+0200
TZNAME:CEST
DTSTART:20190331T010000
END:DAYLIGHT
BEGIN:STANDARD
TZOFFSETFROM:+0200
TZOFFSETTO:+0100
TZNAME:CET
DTSTART:20191027T010000
END:STANDARD
BEGIN:DAYLIGHT
TZOFFSETFROM:+0100
TZOFFSETTO:+0200
TZNAME:CEST
DTSTART:20200329T010000
END:DAYLIGHT
BEGIN:STANDARD
TZOFFSETFROM:+0200
TZOFFSETTO:+0100
TZNAME:CET
DTSTART:20201025T010000
END:STANDARD
END:VTIMEZONE
BEGIN:VEVENT
DTSTART;TZID=Europe/Berlin:20190114T190000
DTEND;TZID=Europe/Berlin:20190114T190000
DTSTAMP:20260421T140536
CREATED:20181116T133057Z
LAST-MODIFIED:20181116T133057Z
UID:2775-1547492400-1547492400@stiftungzukunft.org
SUMMARY:Terminankündigung: Nach der Klimakonferenz (COP 24) in Polen: Was müssen Deutschland und Hamburg jetzt tun?
DESCRIPTION:Terminankündigung Konferenz \nNach der Klimakonferenz (COP 24) in Polen:\nWas müssen Deutschland und Hamburg jetzt tun?\nTeilnehmer/innen der Konferenz\, Expert/innen und Politiker/innen\ndiskutieren die Folgen der Klimakonferenz in Polen \nMontag\, der 14. Januar 2019 um 19 Uhr \nVeranstaltungsort:\nKatholische Akademie Hamburg\nHerrengraben 4\,\n20459 Hamburg \nWelche Folgen haben die Vereinbarungen des COP 24 in Polen? Reichen Sie aus\,\num den Klimawandel wirksam zu begrenzen? Was muss die Bundesrepublik jetzt\npolitisch tun ? Und: Was sind die Folgen für die Stadtpolitik in Hamburg ? \nAuf dem Podium diskutieren zu diesen Fragen Umweltsenator Jens Kerstan\, Dr.\nGeorg Feulner vom Potsdam-Institut für Klimafolgenforschung (PIK)\, Gilbert Siegler\nfür den Hamburger Energietisch (HET)\, Klaus Milke von Germanwatch und Wiebke\nHansen von Tschüss Kohle. \nDie Moderation hat Anke Butscher von Anke Butscher Consult übernommen. \nVeranstalter sind die Katholische Akademie Hamburg\, die Klimaschutzstiftung\nHamburg\, der Hamburger Energietisch (HET)\, der Kirchenkreis Hamburg-Ost\,\nKlimaschutzbeauftragte und das UmweltHaus am Schüberg. \nVeranstaltungsort ist die Katholische Akademie Hamburg\, Herrengraben 4\,\n20459 Hamburg (S-Bahn-Station Stadthausbrücke\, 2 S-Bahn-Stationen vom HBF.). \nDer Eintritt ist frei. Eine Anmeldung ist nicht erforderlich.
URL:https://stiftungzukunft.org/event/terminankuendigung-nach-der-klimakonferenz-cop-24-in-polen-was-muessen-deutschland-und-hamburg-jetzt-tun/
CATEGORIES:Diskussion
END:VEVENT
BEGIN:VEVENT
DTSTART;TZID=Europe/Berlin:20180923T113000
DTEND;TZID=Europe/Berlin:20180923T113000
DTSTAMP:20260421T140536
CREATED:20180823T100357Z
LAST-MODIFIED:20180823T100357Z
UID:2725-1537702200-1537702200@stiftungzukunft.org
SUMMARY:Preisverleihung "Glas der Vernunft" an Saúl Luciano Lliuya in Kassel
DESCRIPTION:Der in diesem Jahr zum 28. mal verliehene Kasseler Bürgerpreises „Glas der Vernunft“ wird in diesem Jahr an Saúl Luciano Lliuya verliehen. Die preisverleihung findet am 23. September um 11:30 im Opernhaus des Staatstheaters Kassel statt. Saúl Luciano Lliuya wird den Preis persönlich entgegen nehmen. \nKarten erhalten Sie über den Kasseler Bürgerpreis bei Doris Homburg\, doris.homburg@gmx.de\, Telefon: 05665 2945 \nWeitere Informationen finden Sie auf unserer Website oder auf der der Website des Kasseler Bürgerpreises.
URL:https://stiftungzukunft.org/event/preisverleihung-glas-der-vernunft-an-saul-luciano-lliuya-in-kassel/
LOCATION:Opernhaus des Staatstheaters Kassel
END:VEVENT
BEGIN:VEVENT
DTSTART;TZID=Europe/Berlin:20180921T180000
DTEND;TZID=Europe/Berlin:20180921T180000
DTSTAMP:20260421T140536
CREATED:20180823T094351Z
LAST-MODIFIED:20180823T094546Z
UID:2718-1537552800-1537552800@stiftungzukunft.org
SUMMARY:WDR-Film zur Klimaklage von Saúl Luciano Lliuya gegen RWE im Abaton-Kino in Hamburg
DESCRIPTION:Am Freitag den am 21. September um 18 Uhr zeigt das Abaton-Programmkino in Hamburg den 30-Minuten-WDR-Film „Wenn es dem Globus zu heiß wird“.  Anschließend wird es eine Informationsveranstaltung zu diesem inzwischen um die Welt gehenden Klimafall zusammen mit ihm\, seiner Anwältin Roda Verheyen und Professor Mojib Latif geben. \nEine Anmeldung ist nicht erforderlich. \nMehr Informationen finden Sie auf der Seite des Abaton-Kinos unter: https://www.abaton.de/index.htm?Wenn%20es%20dem%20Globus \n 
URL:https://stiftungzukunft.org/event/wdr-film-zur-klimaklage-von-saul-luciano-lliuya-gegen-rwe-im-abaton-kino-in-hamburg/
LOCATION:Abaton-Programmkino\, Hamburg
CATEGORIES:Diskussion,Film
END:VEVENT
BEGIN:VEVENT
DTSTART;VALUE=DATE:20180516
DTEND;VALUE=DATE:20180519
DTSTAMP:20260421T140536
CREATED:20180215T151325Z
LAST-MODIFIED:20180215T151325Z
UID:2529-1526428800-1526687999@stiftungzukunft.org
SUMMARY:Deutscher StiftungsTag in Nürnberg
DESCRIPTION:Als Mitglied im Bundesverband Deutscher Stiftungen ist die Stiftung Zukunftsfähigkeit auch in diesem Jahr auf dem Deutschen StiftungsTag 2018 dabei. \nDer Deutsche StiftungsTag gilt als Europas größter Stiftungskongress und findet in diesem Jahr vom 16.–18. Mai 2018 in Nürnberg statt. Hier kommen Stifterinnen und Stifter\, Vorstände und Stiftungsmitarbeiter sowie Multiplikatoren zusammen\, um sich auszutauschen und sich zu vernetzen. \nThematischer Schwerpunkt in diesem Jahr ist „Update! – Stiftungen und Digitalisierung“ \nWeitere Informationen finden Sie unter folgenden Link: http://www.stiftungen.org/stiftungstag
URL:https://stiftungzukunft.org/event/deutscher-stiftungstag-in-nuernberg/
LOCATION:Nürnberg
CATEGORIES:Kongress
END:VEVENT
BEGIN:VEVENT
DTSTART;TZID=Europe/Berlin:20180221T160500
DTEND;TZID=Europe/Berlin:20180221T170000
DTSTAMP:20260421T140536
CREATED:20180215T144924Z
LAST-MODIFIED:20180220T074922Z
UID:2525-1519229100-1519232400@stiftungzukunft.org
SUMMARY:Klaus Milke zu Gast bei "Eins zu Eins. Der Talk" auf Bayern 2
DESCRIPTION:Am Mittwoch\, den 21.02.2018 wird Klaus Milke von 16:05 bis 17:00 Uhr als Gast live im „Eins zu Eins. Der Talk“ des Bayrischen Rundfunk auf Bayern 2 zu hören sein. Im Gespräch mit Norbert Joa wird er unter anderem über die Arbeit der Stiftung Zukunftsfähigkeit\, die Foundations 20 sowie über den Fall Huaraz berichten. \nEine Wiederholung der Sendung findet am selben Tag um 22:05 Uhr statt.
URL:https://stiftungzukunft.org/event/klaus-milke-zu-gast-bei-eins-zu-eins-der-talk-auf-bayern-2/
END:VEVENT
BEGIN:VEVENT
DTSTART;TZID=Europe/Berlin:20171113T123000
DTEND;TZID=Europe/Berlin:20171113T143000
DTSTAMP:20260421T140536
CREATED:20170512T085504Z
LAST-MODIFIED:20170512T092512Z
UID:2087-1510576200-1510583400@stiftungzukunft.org
SUMMARY:Klimaklage gegen RWE: Oberlandesgericht verhandelt Berufung am 13. November
DESCRIPTION:  \n  \n  \n  \n  \n  \n  \n  \n  \nDer 5. Zivilsenat des Oberlandesgerichts Hamm verhandelt die Berufung des peruanischen Bergführers und Kleinbauern Saúl Luciano Lliuya am 13. November (Montag\, 12:30 Uhr). Für den öffentlichen Verhandlungstermin ist eine Dauer von rund zwei Stunden angesetzt.
URL:https://stiftungzukunft.org/event/klimaklage-gegen-rwe-oberlandesgericht-verhandelt-berufung-am-13-november/
LOCATION:OLG Hamm
END:VEVENT
BEGIN:VEVENT
DTSTART;TZID=Europe/Berlin:20171104T120000
DTEND;TZID=Europe/Berlin:20171104T120000
DTSTAMP:20260421T140536
CREATED:20171004T090602Z
LAST-MODIFIED:20171004T091002Z
UID:2394-1509796800-1509796800@stiftungzukunft.org
SUMMARY:Klima schützen – Kohle stoppen!
DESCRIPTION:Klima schützen – Kohle stoppen!\nDemonstration zur Weltklimakonferenz am 4. November in Bonn\n\n\n\n\nDemonstration zu Weltklimakonferenz\nDer Klimagipfel von Paris war ein Aufbruch. Das gemeinsame Ziel\, die Klimakrise aufzuhalten\, macht Hoffnung. Doch das gelingt nur mit entschlossenem Handeln. Gerade nach dem Ausstieg von Donald Trump aus dem Klimaabkommen reichen warme Worte allein nicht aus. Jetzt müssen mehr denn je Taten folgen: ehrgeiziger Klimaschutz\, faire Unterstützung für die armen Länder – und der Ausstieg aus der Kohle! \nDer Klimawandel bedroht schon jetzt Millionen Menschen. In vielen Ländern des Südens sind die Folgen der Klimakrise besonders verheerend: Dürren\, Hunger\, Flucht\, Vertreibung. Ganze Inselstaaten oder Küstengebiete auf Inseln wie Fidschi sind durch den steigenden Meeresspiegel in Gefahr. Hauptgrund ist unsere Wirtschaftsweise mit einem maßlosen Verbrauch von fossilen Energien. \nWährend in Bonn die Regierungen die Umsetzung des Pariser Abkommens verhandeln\, liegen die Schlote und Gruben des rheinischen Kohlereviers nur wenige Kilometer entfernt. Hier holen die Energiekonzerne die klimaschädliche Braunkohle aus dem Boden. Die deutsche Bundesregierung gibt sich als Klima-Vorreiter – doch die eigenen Klimaschutzziele wird sie deutlich verfehlen. Denn sie bremst die Energiewende aus und setzt weiter auf die Energiegewinnung durch Kohle. \nDeshalb kommt es nun auf uns an: Beim Klimagipfel im November kämpfen wir gemeinsam mit tausenden Menschen aus aller Welt für Klimagerechtigkeit und 100 Prozent Erneuerbare Energien im Einklang mit der Natur. Mit unserem bunten und friedlichen Protest drängen wir die neu gewählte Bundesregierung\, den Pariser Klimavertrag konsequent umzusetzen und die Kohlekraftwerke endlich abzuschalten! \nWir fordern schnelles Handeln und einen verbindlichen Fahrplan für einen sozialverträglichen Kohleausstieg. Das schützt das Klima und ermöglicht es\, Perspektiven für die betroffenen Menschen und Regionen zu entwickeln. Nur wenn die Kohlemeiler schnell vom Netz gehen\, können wir die Pariser Klimaziele einhalten. Schon in wenigen Jahren muss die älteste und schmutzigste Hälfte der Kohlekraftwerke vom Netz sein. Denn der Klimaschutz entscheidet sich am Kohleausstieg! \nKommen Sie am 4. November nach Bonn und demonstrieren Sie mit: gegen Kohle und für eine entschlossene und gerechte Klimapolitik bei uns und weltweit! \n \n  \n  \nWeitere Informationen finden Sie auf der Germanwatchseite\nAnsprechpartnerin Germanwatch:\nRixa Schwarz \nTeamleiterin Internationale Klimapolitik \n 
URL:https://stiftungzukunft.org/event/klima-schuetzen-kohle-stoppen/
LOCATION:Bonn\, Münsterplatz
CATEGORIES:Demonstration
END:VEVENT
BEGIN:VEVENT
DTSTART;TZID=Europe/Berlin:20170704T130000
DTEND;TZID=Europe/Berlin:20170704T220000
DTSTAMP:20260421T140536
CREATED:20170512T094237Z
LAST-MODIFIED:20170512T094300Z
UID:2111-1499173200-1499205600@stiftungzukunft.org
SUMMARY:F20-Stiftungsplattform Event zum G20-Gipfel in Hamburg
DESCRIPTION:Stiftungplattform zur deutschen G20-Präsidentschaft\nSTIFTUNGEN  BEZIEHEN  STELLUNG\nKLIMASCHUTZ – Eine Transformation\, die niemanden zurücklässt – ZIVILGESELLSCHAFT \nAm 7./8. Juli 2017 findet in Deutschland der Gipfel der wichtigsten Industrie- und Schwellenländer (G20) statt. Zu diesem Anlass verständigen sich deutsche und internationale Stiftungen\, um den politischen Diskurs im Vorfeld\, während des Gipfels in Hamburg und in dessen Folge mit konkreten Beispielen und Vorschlägen mitzugestalten.  Mit den Beschlüssen der Vereinten Nationen von 2015 zur Agenda 2030 und den darin enthaltenen Sustainable Development Goals (SDGs)  sowie zum Klimavertrag von Paris  ist der Rahmen für künftiges politisches Handeln gesetzt. \nStiftungen aus den G20 Staaten wollen mit einem Event zum G20-Gipfel für ein gemeinsames\, länder-übergreifendes Handeln eintreten und in einer Publikation Beispiele gelungener Transformationsprozesse aufzeigen und damit helfen\, den Boden zu bereiten für weitsichtige Entscheidungen der G20-Mitgliedsregierungen. Ein offener Dialog soll Wege aufzeigen\, aber auch Barrieren verdeutlichen sowie andere Akteure dafür gewinnen\, nachhaltige Transformationsprozesse einzuleiten. \nWeitere Informationen zur G20-Stiftungsplattform finden Sie hier. \nEine vorläufige Agenda des Events zum G20-Gipfel am 4. Juli 2017 finden Sie auf der Webseite der Stiftungsplattform unter folgendem Link http://www.f20-foundations-platform.com/agenda.html \n 
URL:https://stiftungzukunft.org/event/f20-stiftungsplattform-event-zum-g20-gipfel-in-hamburg/
LOCATION:Rathaus Hamburg\, Rathausmarkt 1\, Hamburg\,  20095 \, Deutschland
END:VEVENT
BEGIN:VEVENT
DTSTART;VALUE=DATE:20170517
DTEND;VALUE=DATE:20170520
DTSTAMP:20260421T140536
CREATED:20170512T091017Z
LAST-MODIFIED:20170512T092411Z
UID:2094-1494979200-1495238399@stiftungzukunft.org
SUMMARY:Deutscher StiftungsTag in Osnabrück
DESCRIPTION:Als Mitglied im Bundesverband Deutscher Stiftungen ist die Stiftung Zukunftsfähigkeit auch in diesem Jahr auf dem Deutschen StiftungsTag 2017 dabei. \nDer Deutsche StiftungsTag gilt als Europas größter Stiftungskongress und findet in diesem Jahr vom 17.–19. Mai 2017 in Osnabrück statt. Hier kommen Stifterinnen und Stifter\, Vorstände und Stiftungsmitarbeiter sowie Multiplikatoren zusammen\, um sich auszutauschen und sich zu vernetzen. \nThematischer Schwerpunkt in diesem Jahr ist „Bildung!“ \nWeitere Informationen finden Sie unter folgenden Link http://www.stiftungen.org/stiftungstag
URL:https://stiftungzukunft.org/event/2094/
LOCATION:Osnabrück
CATEGORIES:Kongress
END:VEVENT
BEGIN:VEVENT
DTSTART;TZID=Europe/Berlin:20170405T193000
DTEND;TZID=Europe/Berlin:20170405T193000
DTSTAMP:20260421T140536
CREATED:20170313T143802Z
LAST-MODIFIED:20170313T153427Z
UID:1658-1491420600-1491420600@stiftungzukunft.org
SUMMARY:"Letzte Chance für unser Klima" Worauf es jetzt ankommt
DESCRIPTION:Die Umweltgruppe Elbvororte lädt ein zu Film und anschließender Diskussion mit Klaus Milke\, Vorstandsvorsitzender von Germanwatch e.V.. \nIn der Dokumentation „Letzte Chance für unser Klima“ von Christian Jentzsch werden die Folgen des Klimawandels und Reaktionen hierauf u.a. anhand der Gletscherschmelze in den Anden und des Falls Huaraz (Klimamusterklage „Saúl gegen RWE“) deutlich gemacht. \nDer Film zeigt dabei anhand mehrerer Beispiele\, auf welche Weise sich verschiedenste Menschen weltweit für die Verringerung des Treibhausgasausstoßes und mehr Klimagerechtigkeit einsetzen – von Saúl Luciano und seiner Anwältin Roda Verheyen aus Hamburg über das Germanwatch-Team bis hin zu den Aktivisten des Klima-Camps im Rheinland\, vom Pfarrer in Jülich bis hin zum Papst mit der Enzyklika Laudato Si‘. \n  \n\n 
URL:https://stiftungzukunft.org/event/letzte-chance-fuer-unser-klima-worauf-es-jetzt-ankommt-3/
LOCATION:VHS West\, Waitzstraße 31 \, Hamburg \, 22607 
CATEGORIES:Diskussion,Film
ATTACH;FMTTYPE=image/jpeg:https://stiftungzukunft.org/wp-content/uploads/2017/03/ardsaul.thumbnail.jpg
END:VEVENT
BEGIN:VEVENT
DTSTART;TZID=Europe/Berlin:20170121T120000
DTEND;TZID=Europe/Berlin:20170121T170000
DTSTAMP:20260421T140536
CREATED:20161215T153658Z
LAST-MODIFIED:20170103T170815Z
UID:772-1485000000-1485018000@stiftungzukunft.org
SUMMARY:
DESCRIPTION:„Wir haben es satt! Agrarkonzerne: Finger weg von unserem Essen!“ \n\nAm 21. Januar demonstrieren wir – Bäuerinnen und Bauern\, LebensmittelhandwerkerInnen und kritische KonsumentInnen – zum siebten Mal gemeinsam für gesundes Essen\, eine bäuerlich-ökologischere Landwirtschaft und fairen Handel. Im Jahr der Bundestagswahl wollen wir die Agrar- und Ernährungswende zum zentralen politischen Thema machen. Bist du dabei? \n\nAuch Germanwatch gehört dem breiten Bündnis von Trägerorganisationen an.
URL:https://stiftungzukunft.org/event/772/
LOCATION:Potsdamer Platz\, Berlin
CATEGORIES:Demonstration
ATTACH;FMTTYPE=image/png:https://stiftungzukunft.org/wp-content/uploads/2016/12/Whes2017_header_FB_714x264_m_Date.png
END:VEVENT
BEGIN:VEVENT
DTSTART;TZID=Europe/Berlin:20170112T200000
DTEND;TZID=Europe/Berlin:20170112T220000
DTSTAMP:20260421T140536
CREATED:20170105T114019Z
LAST-MODIFIED:20170105T115149Z
UID:932-1484251200-1484258400@stiftungzukunft.org
SUMMARY:FAQ-Room 15: Welt-Klimakonferenz – was passiert danach?
DESCRIPTION:FAQ-Room 15: Welt-Klimakonferenz – was passiert danach?\nNach dem Abkommen durch die Klimakonferenz in Paris (COP 21) sind bei der COP 22 in Marrakesch weitere Initiativen zur Bewältigung des Klimawandels unternommen worden – aber was passiert\, wenn die neue US- Administration unter Donald Trump das Klimaabkommen blockieren sollte? Diese und andere Fragen diskutieren die Klimaforscher und Experten Mojib Latif\, Klaus Milke\, Florian Rauser u.a.
URL:https://stiftungzukunft.org/event/faq-room-15-welt-klimakonferenz-was-passiert-danach/
LOCATION:Deutsches SchauSpielHaus Hamburg\, Kirchenallee 39\, Hamburg\, 20099 
CATEGORIES:Diskussion
END:VEVENT
BEGIN:VEVENT
DTSTART;TZID=Europe/Berlin:20161130T180000
DTEND;TZID=Europe/Berlin:20161130T193000
DTSTAMP:20260421T140536
CREATED:20161124T140607Z
LAST-MODIFIED:20161124T142650Z
UID:565-1480528800-1480534200@stiftungzukunft.org
SUMMARY:
DESCRIPTION:„Letzte Chance für unser Klima – Worauf es jetzt ankommt“\n\nIn der Dokumentation „Letzte Chance für unser Klima“ von Christian Jentzsch werden die Folgen des Klimawandels und Reaktionen hierauf u.a. anhand der Gletscherschmelze in den Anden und des Falls Huaraz (Klimamusterklage „Saúl gegen RWE“) deutlich gemacht. Der Film zeigt dabei anhand mehrerer Beispiele\, auf welche Weise sich verschiedenste Menschen weltweit für die Verringerung des Treibhausgasausstoßes und mehr Klimagerechtigkeit einsetzen – von Saúl Luciano und seiner Anwältin Roda Verheyen aus Hamburg über das Germanwatch-Team bis hin zu den Aktivisten des Klima-Camps im Rheinland\, vom Pfarrer in Jülich bis hin zum Papst mit der Enzyklika Laudato Si‘. \nBesondere Aktualität und Brisanz erhält die Veranstaltung durch die Tatsache\, dass wenige Tage zuvor erstmals der Fall „Saúl gegen RWE“ vor dem Landgericht Essen mündlich verhandelt wird.  \n\nIm Anschluss an die Vorführung findet eine Publikumsdiskussion statt mit: \n\nSaúl Luciano Lliuya (Bergführer und Kleinbauer aus Huaraz/Peru)\nProf. Dr. Mojib Latif (Meteorologe und Klimaforscher)\nKlaus Milke (Vorstandsvorsitzender Stiftung Zukunftsfähigkeit und Germanwatch e.V.)\nDr. Roda Verheyen (Rechtsanwältin des Klägers)\n\n\nDie Dokumentation wird auch in Bonn und Berlin gezeigt. \nEs wird ein Kostenbeitrag von 6 Euro erhoben.\nSpenden zur Unterstützung von „Saúl gegen RWE“ an die Stiftung Zukunftsfähigkeit sind herzlich willkommen >>
URL:https://stiftungzukunft.org/event/letzte-chance-fuer-unser-klima-worauf-es-jetzt-ankommt/
LOCATION:Abaton-Kino\, Allendeplatz 3 /Ecke Grindelhof\, Hamburg\, 20146
END:VEVENT
BEGIN:VEVENT
DTSTART;TZID=Europe/Berlin:20161128T183000
DTEND;TZID=Europe/Berlin:20161128T200000
DTSTAMP:20260421T140536
CREATED:20161124T141238Z
LAST-MODIFIED:20161124T143108Z
UID:571-1480357800-1480363200@stiftungzukunft.org
SUMMARY:
DESCRIPTION:„Letzte Chance für unser Klima – Worauf es jetzt ankommt“\n\n\nIn der Dokumentation „Letzte Chance für unser Klima“ von Christian Jentzsch werden die Folgen des Klimawandels und Reaktionen hierauf u.a. anhand der Gletscherschmelze in den Anden und des Falls Huaraz (Klimamusterklage „Saúl gegen RWE“) deutlich gemacht. Der Film zeigt dabei anhand mehrerer Beispiele\, auf welche Weise sich verschiedenste Menschen \nweltweit für die Verringerung des Treibhausgasausstoßes und mehr Klimagerechtigkeit einsetzen – von Saúl Luciano und seiner Anwältin Roda Verheyen aus Hamburg über das Germanwatch-Team bis hin zu den Aktivisten des Klima-Camps im Rheinland\, vom Pfarrer in Jülich bis hin zum Papst mit der Enzyklika Laudato Si‘. \nBesondere Aktualität und Brisanz erhält die Veranstaltung durch die Tatsache\, dass wenige Tage zuvor erstmals der Fall „Saúl gegen RWE“ vor dem Landgericht Essen mündlich verhandelt wird.  \n\nIm Anschluss an die Vorführung findet eine Publikumsdiskussion statt vorauss. mit: \n\nSaúl Luciano Lliuya (Bergführer und Kleinbauer aus Huaraz/Peru)\nChristoph Bals (Polit. Geschäftsführer Germanwatch) oder Klaus Milke (Vorstand Germanwatch und der Stiftung Zukunftsfähigkeit)\nDr. Roda Verheyen (Anwältin des Klägers)\nModeration: Johanna Holzhauer (WDR)\n\n\n\nDie Dokumentation wird auch in Berlin und Hamburg gezeigt. \nEs wird ein Kostenbeitrag von 5 Euro erhoben.\nSpenden zur Unterstützung von „Saúl gegen RWE“ an die Stiftung Zukunftsfähigkeit sind herzlich willkommen >>
URL:https://stiftungzukunft.org/event/letzte-chance-fuer-unser-klima-worauf-es-jetzt-ankommt-2/
LOCATION:Neue Filmbühne\, Friedrich-Breuer-Str. 68-70\, Bonn\, 53225 
END:VEVENT
BEGIN:VEVENT
DTSTART;TZID=Europe/Berlin:20161125T180000
DTEND;TZID=Europe/Berlin:20161125T200000
DTSTAMP:20260421T140536
CREATED:20161124T135854Z
LAST-MODIFIED:20161124T162858Z
UID:559-1480096800-1480104000@stiftungzukunft.org
SUMMARY:
DESCRIPTION:„Letzte Chance für unser Klima – Worauf es jetzt ankommt“\n\n\nIn der Dokumentation „Letzte Chance für unser Klima“ von Christian Jentzsch werden die Folgen des Klimawandels und Reaktionen hierauf u.a. anhand der Gletscherschmelze in den Anden und des Falls Huaraz (Klimamusterklage „Saúl gegen RWE“) deutlich gemacht. Der Film zeigt dabei anhand mehrerer Beispiele\, auf welche Weise sich verschiedenste Menschen weltweit für die Verringerung des Treibhausgasausstoßes und mehr Klimagerechtigkeit einsetzen – von Saúl Luciano und seiner Anwältin Roda Verheyen aus Hamburg über das Germanwatch-Team bis hin zu den Aktivisten des Klima-Camps im Rheinland\, vom Pfarrer in Jülich bis hin zum Papst mit der Enzyklika Laudato Si‘. \nBesondere Aktualität und Brisanz erhält die Veranstaltung durch die Tatsache\, dass einen Tag zuvor erstmals der Fall „Saúl gegen RWE“ vor dem Landgericht Essen mündlich verhandelt wird.  \n\nIm Anschluss an die Vorführung findet eine Publikumsdiskussion statt mit: \n\nSaúl Luciano Lliuya (Bergführer und Kleinbauer aus Huaraz/Peru)\nChristian Jentzsch (Journalist und Filmemacher)\nDr. Roda Verheyen (Anwältin des Klägers)\nModeration: Christoph Bals (Polit. Geschäftsführer Germanwatch) oder Klaus Milke (Vorstand Germanwatch und der Stiftung Zukunftsfähigkeit)\n\n\n\nDie Dokumentation wird auch in Bonn und Hamburg gezeigt. \nEs wird ein Kostenbeitrag von 6 Euro erhoben.\n Spenden zur Unterstützung von „Saúl gegen RWE“ an die Stiftung Zukunftsfähigkeit sind herzlich willkommen >>
URL:https://stiftungzukunft.org/event/germanwatch-stiftung-zukunftsfaehigkeit-in-kooperation-mit-dem-kino-central/
LOCATION:Kino Central\, Rosenthaler Str. 39 \, Berlin\, 10178 
END:VEVENT
END:VCALENDAR